BEGIN:VCALENDAR
VERSION:2.0
PRODID:-//323520707b53063f902781f05ee1cfe9bf86132c//NONSGML kigkonsult.se i
 Calcreator 2.39.1//
CALSCALE:GREGORIAN
METHOD:PUBLISH
UID:c71b6b7c-8af5-4285-8a79-6f51c60a1b2b
X-WR-CALNAME:Barbican Quartet
X-WR-CALDESC:Barbican Quartet
X-WR-RELCALID:3E26604A-50F4-4449-8B3E-E4F4932D05B5
X-WR-TIMEZONE:Europe/Berlin
BEGIN:VTIMEZONE
TZID:Europe/Berlin
BEGIN:STANDARD
TZNAME:CET
DTSTART:20251026T030000
TZOFFSETFROM:+0200
TZOFFSETTO:+0100
RDATE:20261025T030000
END:STANDARD
BEGIN:DAYLIGHT
TZNAME:CEST
DTSTART:20260329T020000
TZOFFSETFROM:+0100
TZOFFSETTO:+0200
RDATE:20270328T020000
END:DAYLIGHT
END:VTIMEZONE
BEGIN:VEVENT
UID:cd851a2c-41c7-415c-93bc-d7fb41f9391d
DTSTAMP:20260422T135619Z
CLASS:PUBLIC
COMMENT:It's going to be fun..
DESCRIPTION:
DTSTART;TZID=Europe/Berlin:20260414T200000
DTEND;TZID=Europe/Berlin:20260414T223000
LOCATION:Stadthalle Göppingen
ORGANIZER;CN=Kulturkreis Göppingen:MAILTO:info@kulturkreis.de
SEQUENCE:1
SUMMARY:Meisterkonzert Barbican Quartet
TRANSP:OPAQUE
BEGIN:VALARM
ACTION:DISPLAY
DESCRIPTION:
TRIGGER:-P1D
END:VALARM
END:VEVENT
END:VCALENDAR
